BEGIN:VCALENDAR
VERSION:2.0
PRODID:-//TotalExpo.ru v1.0//EN
BEGIN:VEVENT
DTSTAMP:20240619T120000
DTSTART:20240619T070000Z
DTEND:20240621T140000Z
SUMMARY:EXPO-RUSSIA KAZAKHSTAN 2024 (Алма-Ата, Казахстан)
DESCRIPTION:Цель выставки - развитие экономического, научно-технического, культурного, политического сотрудничества между Российской Федерацией и Республикой Казахстан, установление и укрепление связей между странами, развитие совместного бизнеса, торгово-экономических и инвестиционных отношений.
LOCATION:Rixos Almaty Hotel (Казахстан, Алма-Ата)
END:VEVENT
END:VCALENDAR